BEGIN:VCALENDAR
VERSION:2.0
PRODID:-//Docomomo Portugal - ECPv5.3.0//NONSGML v1.0//EN
CALSCALE:GREGORIAN
METHOD:PUBLISH
X-WR-CALNAME:Docomomo Portugal
X-ORIGINAL-URL:https://www.docomomo.pt
X-WR-CALDESC:Events for Docomomo Portugal
BEGIN:VTIMEZONE
TZID:UTC
BEGIN:STANDARD
TZOFFSETFROM:+0000
TZOFFSETTO:+0000
TZNAME:UTC
DTSTART:20240101T000000
END:STANDARD
END:VTIMEZONE
BEGIN:VEVENT
DTSTART;VALUE=DATE:20240307
DTEND;VALUE=DATE:20240310
DTSTAMP:20260420T111146
CREATED:20240509T155553Z
LAST-MODIFIED:20240509T155553Z
UID:14108-1709769600-1710028799@www.docomomo.pt
SUMMARY:Docomomo ISC/ID + Docomomo Portugal Conference “Modernist women interior designers and artists”
DESCRIPTION:The Docomomo International Specialist Committee on Interior Design (ISC/ID) and Docomomo Portugal organize the Conference “Modernist women interior designers and artists: to deepen the reading of the different expressions of female creativity.”\nThe conference will be held in Calouste Gulbenkian Foundation\, in Lisbon\, on March 7 and 8\, 2024\, in celebration of the International Women’s Day. On March 9\, the program will include a guided tour of the MUDE in Lisbon and the Museum of Casa das Histórias Paula Rego in Cascais. \nIn the realm of modernist interior architecture\, design and art\, women have made significant but often overlooked contributions. This conference Modernist Women Interior Designers and Artists: Deepening the Reading of Different Expressions of Female Creativity aims to shed light on the multifaceted and diverse creativity of women within the Modern Movement. As we celebrate their innovative work\, we invite scholars\, researchers\, and enthusiasts to submit papers that explore and expand upon the roles of women in shaping modernist interior spaces.\nThe Modern Movement\, characterized by its commitment to the development of a better life for all\, is marked by widely celebrated male figures such as Le Corbusier and Mies van der Rohe\, while numerous women designers and artists made equally remarkable contributions to the modern production. This conference aims to fill this historical gap and promote a deeper understanding of the many ways in which women shaped the modern culture. \nVenue: 7-8 March\, Calouste Gulbenkian Foundation\, Lisbon\nTours: 9 March\, MUDE\, Lisbon\, and Casa das Histórias Paula Rego\, Cascais \nMore information on the conference website \nDownload Best WordPress Themes Free DownloadDownload WordPress ThemesPremium WordPress Themes DownloadFree Download WordPress Themesudemy course download freedownload redmi firmwareDownload Nulled WordPress Themesudemy paid course free download
URL:https://www.docomomo.pt/event/docomomo-isc-id-docomomo-portugal-conference-modernist-women-interior-designers-and-artists
LOCATION:Fundação Calouste Gulbenkian\, Av. de Berna 45A\, Lisbon\, 1067-001\, Portugal
CATEGORIES:Conferences
ATTACH;FMTTYPE=image/jpeg:https://www.docomomo.pt/wp-content/uploads/2024/04/MWIDA_Imagem_Cartaz-2-scaled.jpg
END:VEVENT
END:VCALENDAR