BEGIN:VCALENDAR
VERSION:2.0
PRODID:-//Docomomo Portugal - ECPv5.3.0//NONSGML v1.0//EN
CALSCALE:GREGORIAN
METHOD:PUBLISH
X-WR-CALNAME:Docomomo Portugal
X-ORIGINAL-URL:https://www.docomomo.pt
X-WR-CALDESC:Events for Docomomo Portugal
BEGIN:VTIMEZONE
TZID:UTC
BEGIN:STANDARD
TZOFFSETFROM:+0000
TZOFFSETTO:+0000
TZNAME:UTC
DTSTART:20200101T000000
END:STANDARD
END:VTIMEZONE
BEGIN:VEVENT
DTSTART;VALUE=DATE:20200910
DTEND;VALUE=DATE:20200915
DTSTAMP:20260420T111641
CREATED:20181121T160429Z
LAST-MODIFIED:20190913T133727Z
UID:5228-1599696000-1600127999@www.docomomo.pt
SUMMARY:16th International Docomomo Conference
DESCRIPTION:The candidacy from Docomomo Japan to organize the 16th International Docomomo Conference\, in Tokyo\, was approved in the 15th Docomomo Council Meeting\, last August 30\, 2018\, at Cankarjev Dom. \nThe 16th International Docomomo Conference will take place in Tokyo between the 10th and the 14th September 2020\, under the theme “Inheritable Resilience: Sharing Values of Global Modernities”. \nTheme:\nInheritable Resilience: Sharing Values of Global Modernities\nToday\, not only in Europe\, but in Japan\, South America\, Africa and throughout the world\, the architectural cultural heritage that we call the “Modern Movement” (MoMo) has been exposed to the major force of conscious/unconscious destructions.\nWe can trace the causes to three reasons: \n1.Popular Ignorance regarding  the MoMo\n2.Self-Vulnerability of MoMo\n3.Skepticism towards MoMo ideology \nHence why\, we are embarking on a mission to mitigate these three elements of threat which are endangering the MoMo. We are calling for\, not only\, those experts who are directly and indirectly connected to the movement\, but all the people interested in the protection of the MoMo in a renewed future\, to come together to offer knowledge and experience. There are also three types of knowledge that we must collect from the global community.\nFrom the experts:\n1. Knowledge of relativization and reinterpretation;\n2. Technology\, methodology and policy to revitalize the value and the vitality of the MoMo.\nAnd from the adults gathered around the experts and the children who will carry our world towards the future:\n3. Knowledge of education and enlightenment. \nSubthemes:\n1. Space of Sports\n2. Urban Landscape\n3. Modern Housing\n4. Technological/Material Legacies\n5. Regional Timber Structures\n6. Pedagogies of Docomomo\n7. Documentation and Dissemination\n8. Global / Local Modernitites\n9. Metabolism Reconsidered\n10. Designing Daily Life\n11. Le Corbusier and the Question of Cultural Heritage\n12. Others \nVenue:\nThe conference will be in the Ueno Cultural District\, at\n– Tokyo Cultural Hall designed by Kunio Maekawa;\n– National Museum of Western Art designed by Le Corbusier;\n– Tokyo University of Art and Tokyo National Research Institute for Cultural Properties. \nMore info: http://www.docomomo2020.com \nDownload Premium WordPress Themes FreeDownload Best WordPress Themes Free DownloadFree Download WordPress ThemesDownload WordPress Themes Freefree online coursedownload micromax firmwareDownload Best WordPress Themes Free Downloaddownload udemy paid course for free
URL:https://www.docomomo.pt/event/16th-international-docomomo-conference
LOCATION:Ueno district\, Tokyo\, Japan\, 5-45 Uenokōen\, Taitō-ku\, Tōkyō-to 110-8716\, Japan\, Tokyo\, 110-8716\, Japan
CATEGORIES:Conferences
ATTACH;FMTTYPE=image/jpeg:https://www.docomomo.pt/wp-content/uploads/2018/09/tokyo-conference.jpg
END:VEVENT
END:VCALENDAR